BEGIN:VCALENDAR
VERSION:2.0
PRODID:-//wp-events-plugin.com//7.2.3.1//EN
TZID:Europe/Berlin
X-WR-TIMEZONE:Europe/Berlin
BEGIN:VEVENT
UID:769@markgraefler-musikverband.de
DTSTART;TZID=Europe/Berlin:20260314T193000
DTEND;TZID=Europe/Berlin:20260314T193000
DTSTAMP:20260302T200705Z
URL:https://markgraefler-musikverband.de/veranstaltung/doppelkonzert-musik
 verein-auggen-musikverein-norsingen-2026/
SUMMARY:Doppelkonzert des Musikverein Auggen mit dem Musikverein Norsingen
DESCRIPTION:
ATTACH;FMTTYPE=image/jpeg:https://markgraefler-musikverband.de/wp-content/
 uploads/2020/10/MV-Auggen.jpg
CATEGORIES:Konzerte,Vereine
LOCATION:Sonnberghalle Auggen\, Vogesenstraße 7\, Auggen\, Baden-Württemb
 erg\, 79424\, Deutschland
GEO:47.79181;7.593814
X-APPLE-STRUCTURED-LOCATION;VALUE=URI;X-ADDRESS=Vogesenstraße 7\, Auggen\,
  Baden-Württemberg\, 79424\, Deutschland;X-APPLE-RADIUS=100;X-TITLE=Sonnb
 erghalle Auggen:geo:47.79181,7.593814
END:VEVENT
BEGIN:VTIMEZONE
TZID:Europe/Berlin
X-LIC-LOCATION:Europe/Berlin
BEGIN:STANDARD
DTSTART:20251026T020000
TZOFFSETFROM:+0200
TZOFFSETTO:+0100
TZNAME:CET
END:STANDARD
END:VTIMEZONE
END:VCALENDAR