BEGIN:VCALENDAR
VERSION:2.0
PRODID:-//wp-events-plugin.com//7.2.3.1//EN
TZID:Europe/Berlin
X-WR-TIMEZONE:Europe/Berlin
BEGIN:VEVENT
UID:246@markgraefler-musikverband.de
DTSTART;TZID=Europe/Berlin;VALUE=DATE:20220926
DTEND;TZID=Europe/Berlin;VALUE=DATE:20221112
DTSTAMP:20220824T220613Z
URL:https://markgraefler-musikverband.de/veranstaltung/vorbereitungskurs-j
 mla-silber-herbst-2022/
SUMMARY:Vorbereitungskurs für das Jungmusiker-Leistungsabzeichen in Silber
DESCRIPTION:[et_pb_section fb_built="1" _builder_version="4.18.0" width="10
 0%" custom_margin="|0px||0px|false|false" custom_padding="0px|0px||0px|fal
 se|false" hover_enabled="0" global_colors_info="{}" sticky_enabled="0"][et
 _pb_row _builder_version="4.16" background_size="initial" background_posit
 ion="top_left" background_repeat="repeat" width="100%" custom_margin="|-35
 px||0px|false|false" custom_padding="0px|0px|||false|false" global_colors_
 info="{}"][et_pb_column type="4_4" _builder_version="4.16" custom_padding=
 "|||" global_colors_info="{}" custom_padding__hover="|||"][et_pb_text _bui
 lder_version="4.18.0" _module_preset="default" header_text_color="#73b928"
  header_2_text_color="#73b928" hover_enabled="0" global_colors_info="{}" c
 ustom_margin="||14px||false|false" sticky_enabled="0"]Einzeltermine:[/et_p
 b_text][et_pb_tabs active_tab_background_color="#73b928" inactive_tab_back
 ground_color="#ffffff" active_tab_text_color="#ffffff" _builder_version="4
 .18.0" _module_preset="default" tab_text_color="#73b928" tab_font="|||||||
 |" tab_font_size="16px" global_colors_info="{}"][et_pb_tab title="1. Kurst
 ag" _builder_version="4.18.0" _module_preset="default" global_colors_info=
 "{}"]Montag\, 26.09.202219:00 Uhr - 21:00 UhrOnline[/et_pb_tab][et_pb_tab 
 title="2. Kurstag" _builder_version="4.18.0" _module_preset="default" glob
 al_colors_info="{}"]Mittwoch\, 05.10.202219:00 Uhr - 21:00 UhrOnline[/et_p
 b_tab][et_pb_tab title="3. Kurstag" _builder_version="4.18.0" _module_pres
 et="default" global_colors_info="{}"]Montag\, 10.10.202219:00 Uhr - 21:00 
 UhrOnline[/et_pb_tab][et_pb_tab title="4. Kurstag" _builder_version="4.18.
 0" _module_preset="default" global_colors_info="{}"]Mittwoch\, 19.10.20221
 9:00 Uhr - 21:00 UhrOnline[/et_pb_tab][et_pb_tab title="5. Kurstag" _build
 er_version="4.18.0" _module_preset="default" global_colors_info="{}"]Freit
 ag\, 21.10.202218:30 Uhr - 20:30 UhrBürgersaal Wettelbrunn\, Weinstraße 
 4\, 79219 Staufen im Breisgau[/et_pb_tab][et_pb_tab title="6. Kurstag" _bu
 ilder_version="4.18.0" _module_preset="default" global_colors_info="{}"]Fr
 eitag\, 28.10.202218:30 Uhr - 20:30 UhrBürgersaal Wettelbrunn\, Weinstra
 ße 4\, 79219 Staufen im Breisgau[/et_pb_tab][et_pb_tab title="7. Kurstag 
 mit Probeprüfung" _builder_version="4.18.0" _module_preset="default" glob
 al_colors_info="{}"]Freitag\, 11.11.202218:30 Uhr - 21:00 UhrBürgersaal W
 ettelbrunn\, Weinstraße 4\, 79219 Staufen im Breisgau[/et_pb_tab][/et_pb_
 tabs][/et_pb_column][/et_pb_row][et_pb_row _builder_version="4.18.0" backg
 round_size="initial" background_position="top_left" background_repeat="rep
 eat" width="100%" custom_margin="|-35px||0px|false|false" custom_padding="
 |0px|||false|false" hover_enabled="0" global_colors_info="{}" column_struc
 ture="1_2\,1_2" sticky_enabled="0"][et_pb_column type="1_2" _builder_versi
 on="4.16" custom_padding="|||" global_colors_info="{}" custom_padding__hov
 er="|||"][et_pb_text _builder_version="4.18.0" _module_preset="default" he
 ader_text_color="#73b928" header_2_text_color="#73b928" hover_enabled="0" 
 global_colors_info="{}" sticky_enabled="0" custom_padding="||||false|false
 " custom_margin="||14px||false|false"]Lehrbuch:[/et_pb_text][et_pb_text _b
 uilder_version="4.18.0" _module_preset="default" hover_enabled="0" sticky_
 enabled="0"]Michael Stecher (Hg.): Musiklehre\, Rhythmik &amp\; Gehörbild
 ung. Eine Musikkunde für die Mittelstufe\, Bd. 2\, De Haske 2016.[/et_pb_
 text][et_pb_button button_url="https://www.rundel.de/de/artikel/musiklehre
 _rhythmik_und_gehoerbildung_band_2_br_mp3_online_audio/B20093" url_new_win
 dow="on" button_text="Bestellen" _builder_version="4.18.0" _module_preset=
 "default" custom_button="on" button_text_color="#73b928" button_border_col
 or="#73b928" button_icon_color="#73b928" hover_enabled="0" global_colors_i
 nfo="{}" sticky_enabled="0"][/et_pb_button][/et_pb_column][et_pb_column ty
 pe="1_2" _builder_version="4.16" custom_padding="|||" global_colors_info="
 {}" custom_padding__hover="|||"][et_pb_text _builder_version="4.18.0" _mod
 ule_preset="default" header_text_color="#73b928" header_2_text_color="#73b
 928" hover_enabled="0" global_colors_info="{}" custom_margin="||14px||fals
 e|false" sticky_enabled="0"]Anmeldung:[/et_pb_text][et_pb_button button_ur
 l="https://forms.office.com/r/uHAeRvYPkY" url_new_window="on" button_text=
 "Zum Anmeldeformular" _builder_version="4.18.0" _module_preset="default" c
 ustom_button="on" button_text_color="#73b928" button_border_color="#73b928
 " button_icon_color="#73b928" hover_enabled="0" global_colors_info="{}" st
 icky_enabled="0"][/et_pb_button][et_pb_text _builder_version="4.18.0" _mod
 ule_preset="default" header_text_color="#73b928" header_2_text_color="#73b
 928" global_colors_info="{}"]Anmeldeschluss: 25.09.2022[/et_pb_text][/et_p
 b_column][/et_pb_row][et_pb_row _builder_version="4.16" _module_preset="de
 fault" width="100%" custom_padding="||0px||false|false" global_colors_info
 ="{}"][et_pb_column type="4_4" _builder_version="4.16" _module_preset="def
 ault" global_colors_info="{}"][et_pb_text _builder_version="4.16" _module_
 preset="default" header_text_color="#73B928" global_colors_info="{}"]Anspr
 echperson &amp\; Dozent:[/et_pb_text][et_pb_team_member name="Niklas Maier
 " image_url="https://markgraefler-musikverband.de/wp-content/uploads/2021/
 04/Maier-Niklas.jpg" db_email_addr="niklas.maier@markgraefler-musikverband
 .de" db_link_target="on" icon_color="#73B928" use_icon_font_size="on" icon
 _font_size="18px" _builder_version="4.16" _module_preset="default" header_
 level="h2" header_font="Bitter SemiBold||||||||" header_text_color="#73B92
 8" body_font="Roboto Regular||||||||" body_text_color="#000000" position_f
 ont="Roboto Regular||||||||" position_text_color="#d2a000" position_font_s
 ize="16px" custom_margin="||23px|||" border_color_all_image="#000000" box_
 shadow_style_image="preset2" global_colors_info="{}"]\n\nAlois-Neymeyer-St
 rasse 2079219  Staufen im Breisgau-Wettelbrunn\nMobil: 0 174 – 9 42 56 
 97\n\n[/et_pb_team_member][/et_pb_column][/et_pb_row][/et_pb_section]
ATTACH;FMTTYPE=image/jpeg:https://markgraefler-musikverband.de/wp-content/
 uploads/2020/12/Logo-3-4.png
CATEGORIES:JMLA
END:VEVENT
BEGIN:VTIMEZONE
TZID:Europe/Berlin
X-LIC-LOCATION:Europe/Berlin
BEGIN:DAYLIGHT
DTSTART:20220327T030000
TZOFFSETFROM:+0100
TZOFFSETTO:+0200
TZNAME:CEST
END:DAYLIGHT
BEGIN:STANDARD
DTSTART:20221030T020000
TZOFFSETFROM:+0200
TZOFFSETTO:+0100
TZNAME:CET
END:STANDARD
END:VTIMEZONE
END:VCALENDAR