BEGIN:VCALENDAR
VERSION:2.0
PRODID:-//wp-events-plugin.com//7.2.3.1//EN
TZID:Europe/Berlin
X-WR-TIMEZONE:Europe/Berlin
BEGIN:VEVENT
UID:210@markgraefler-musikverband.de
DTSTART;TZID=Europe/Berlin:20220413T200000
DTEND;TZID=Europe/Berlin:20220413T200000
DTSTAMP:20220401T182620Z
URL:https://markgraefler-musikverband.de/veranstaltung/workshop-sponsoring
 -2022-04-13/
SUMMARY:Workshop Sponsoring
DESCRIPTION:[et_pb_section fb_built="1" _builder_version="4.16.0" _module_p
 reset="default" custom_padding="0px||||false|false" global_colors_info="{}
 "][et_pb_row _builder_version="4.16.0" _module_preset="default" width="100
 %" global_colors_info="{}"][et_pb_column type="4_4" _builder_version="4.16
 .0" _module_preset="default" global_colors_info="{}"][et_pb_text ul_positi
 on="inside" ul_item_indent="14px" _builder_version="4.16.0" _module_preset
 ="default" global_colors_info="{}"]Inhalte:\n\nFachliche Grundlagen aus de
 r Werbung und dem Marketing\nDarstellung von Zielgruppen\nDarstellung von 
 erreichbaren Menschen in der Zielgruppe\nWert der Zielgruppe / Sponsoringh
 öhe\nVerträge\nPersonalmarketing\n[/et_pb_text][/et_pb_column][/et_pb_ro
 w][et_pb_row _builder_version="4.16.0" _module_preset="default" width="100
 %" global_colors_info="{}"][et_pb_column type="4_4" _builder_version="4.16
 .0" _module_preset="default" global_colors_info="{}"][et_pb_text ul_positi
 on="inside" ul_item_indent="14px" _builder_version="4.16.0" _module_preset
 ="default" custom_margin="||0px||false|false" global_colors_info="{}"]Anme
 ldung:[/et_pb_text][et_pb_button button_text="Zum Anmeldeformular" _builde
 r_version="4.16.0" _module_preset="default" hover_enabled="0" global_color
 s_info="{}" button_url="https://forms.office.com/r/uYJcuTzKM1" url_new_win
 dow="on" sticky_enabled="0"][/et_pb_button][et_pb_text ul_position="inside
 " ul_item_indent="14px" _builder_version="4.16.0" _module_preset="default"
  custom_margin="||||false|false" hover_enabled="0" global_colors_info="{}"
  sticky_enabled="0"]Anmeldeschluss: 12.04.2022[/et_pb_text][/et_pb_column]
 [/et_pb_row][et_pb_row _builder_version="4.16.0" _module_preset="default" 
 width="100%" global_colors_info="{}"][et_pb_column type="4_4" _builder_ver
 sion="4.16.0" _module_preset="default" global_colors_info="{}"][et_pb_text
  _builder_version="4.16.0" _module_preset="default" global_colors_info="{}
 "]Ansprechperson:[/et_pb_text][et_pb_team_member name="Bernhard Metzger" p
 osition="Präsident" image_url="https://markgraefler-musikverband.de/wp-co
 ntent/uploads/2021/04/Metzger-Bernhard.jpg" db_email_addr="bernhard.metzge
 r@markgraefler-musikverband.de" db_link_target="on" icon_color="#005087" u
 se_icon_font_size="on" icon_font_size="18px" _builder_version="4.16.0" _mo
 dule_preset="default" header_level="h2" header_font="Bitter SemiBold||||||
 ||" header_text_color="#005087" body_font="Roboto Regular||||||||" body_te
 xt_color="#000000" position_font="Roboto Regular||||||||" position_text_co
 lor="#d2a000" position_font_size="16px" custom_margin="||23px|||" border_c
 olor_all_image="#000000" box_shadow_style_image="preset2" global_colors_in
 fo="{}"]Federerweg 279238 Ehrenkirchen\nTel.: 0 76 33 – 800 123[/et_pb_t
 eam_member][/et_pb_column][/et_pb_row][/et_pb_section]
ATTACH;FMTTYPE=image/jpeg:https://markgraefler-musikverband.de/wp-content/
 uploads/2020/12/Logo-3-4.png
CATEGORIES:Verband
END:VEVENT
BEGIN:VTIMEZONE
TZID:Europe/Berlin
X-LIC-LOCATION:Europe/Berlin
BEGIN:DAYLIGHT
DTSTART:20220327T030000
TZOFFSETFROM:+0100
TZOFFSETTO:+0200
TZNAME:CEST
END:DAYLIGHT
END:VTIMEZONE
END:VCALENDAR